BEGIN:VCALENDAR
VERSION:2.0
PRODID:-//Austin Civic Orchestra - ECPv6.5.1.4//NONSGML v1.0//EN
CALSCALE:GREGORIAN
METHOD:PUBLISH
X-WR-CALNAME:Austin Civic Orchestra
X-ORIGINAL-URL:http://austincivicorchestra.org
X-WR-CALDESC:Events for Austin Civic Orchestra
REFRESH-INTERVAL;VALUE=DURATION:PT1H
X-Robots-Tag:noindex
X-PUBLISHED-TTL:PT1H
BEGIN:VTIMEZONE
TZID:America/Chicago
BEGIN:DAYLIGHT
TZOFFSETFROM:-0600
TZOFFSETTO:-0500
TZNAME:CDT
DTSTART:20210314T080000
END:DAYLIGHT
BEGIN:STANDARD
TZOFFSETFROM:-0500
TZOFFSETTO:-0600
TZNAME:CST
DTSTART:20211107T070000
END:STANDARD
END:VTIMEZONE
BEGIN:VEVENT
DTSTART;TZID=America/Chicago:20210926T150000
DTEND;TZID=America/Chicago:20210926T160000
DTSTAMP:20260421T031318
CREATED:20210817T164610Z
LAST-MODIFIED:20210925T021311Z
UID:2028-1632668400-1632672000@austincivicorchestra.org
SUMMARY:SOLD OUT! Come for the Music\, Stay for the Flowers
DESCRIPTION:Join the Austin Civic Orchestra for the premier concert in its 2021-22 season\, Reunited. Throughout the season\, you will hear beloved classics alongside new and eclectic works. \nDuring this concert at the Lady Bird Johnson Wildflower Center’s auditorium\, the orchestra will perform an assortment of large chamber repertoire\, which highlights all the separate sections of the orchestra. The concert includes music by Piazzolla\, Newbold\, Strauss\, Reich\, and Di Lorenzo. \nFull program: \n\nPiazzolla: Libertango \nNewbold: Perseus with guest conductor Richard Frazier \nBalmages: Lyric Metal\nVivaldi: Concerto in A Minor for Bassoon featuring Aurel Garza-Tucker\nStrauss: Serenade Op. 7\nReich: Music For Pieces Of Wood \nDi Lorenzo: A Little Russian Circus\n\nTickets are $15 for adults; $10 for seniors (62 years and older)\, teachers\, college students\, and members of the military/veterans; and free for youth. Your ticket also grants you admission to the Wildflower Center so you can Come for the Music\, Stay for the Flowers. \nDue to COVID-19 restrictions\, seating capacity is at 50% in the auditorium and you will need to wear a face mask. \nPURCHASE TICKETS \nGet directions and parking information. \n\n\nThis project is supported in part by the Cultural Arts Division of the City of Austin Economic Development Department.
URL:http://austincivicorchestra.org/event/come-for-music-stay-for-flowers/
LOCATION:Lady Bird Johnson Wildflower Center Auditorium\, 4801 La Crosse Ave.\, Austin\, 78739\, United States
ATTACH;FMTTYPE=image/jpeg:http://austincivicorchestra.org/wp-content/uploads/2021/08/Event-Background-Graphic.jpg
END:VEVENT
END:VCALENDAR