BEGIN:VCALENDAR
VERSION:2.0
PRODID:-//Austin Civic Orchestra - ECPv6.5.1.4//NONSGML v1.0//EN
CALSCALE:GREGORIAN
METHOD:PUBLISH
X-ORIGINAL-URL:http://austincivicorchestra.org
X-WR-CALDESC:Events for Austin Civic Orchestra
REFRESH-INTERVAL;VALUE=DURATION:PT1H
X-Robots-Tag:noindex
X-PUBLISHED-TTL:PT1H
BEGIN:VTIMEZONE
TZID:America/Chicago
BEGIN:DAYLIGHT
TZOFFSETFROM:-0600
TZOFFSETTO:-0500
TZNAME:CDT
DTSTART:20210314T080000
END:DAYLIGHT
BEGIN:STANDARD
TZOFFSETFROM:-0500
TZOFFSETTO:-0600
TZNAME:CST
DTSTART:20211107T070000
END:STANDARD
END:VTIMEZONE
BEGIN:VEVENT
DTSTART;TZID=America/Chicago:20211218T193000
DTEND;TZID=America/Chicago:20211218T203000
DTSTAMP:20260420T232901
CREATED:20210817T215306Z
LAST-MODIFIED:20211215T215255Z
UID:2043-1639855800-1639859400@austincivicorchestra.org
SUMMARY:Happy Holidays!
DESCRIPTION:Get ready for winter with the Austin Civic Orchestra’s “Happy Holidays!” concert. The program includes selected dances from Tchaikovsky’s Nutcracker Suite as well as many seasonal favorites. The concert will end with a Christmas Carol sing-along. \nFull program: \n\nAnderson: Christmas Festival\nLeontovich & Willoughby/Hayman: Carol of the Bells\nTchaikovsky: Dances From The Nutcracker\nTrad./Custer: Chanukah Festival Overture\nGuaraldi/Pugh: A Charlie Brown Christmas\nTorme/Wells/Lowden: The Christmas Song\nTrad./Davis: Stille Nacht\nBlane/Whitney: Have Yourself a Merry Little Christmas\nAnderson: Sleigh Ride\nCarol Sing-a-long\n\nThis concert is part of the Austin Civic Orchestra’s 2021-22 season\, Reunited. Throughout the season\, you will hear beloved classics alongside new and eclectic works.  Tickets can be purchased online or at the door beginning an hour before the concert. \nPURCHASE TICKETS \nDue to COVID-19 restrictions\, seating capacity is at 50% in the auditorium and you will need to wear a face mask.
URL:http://austincivicorchestra.org/event/happy-holidays/
LOCATION:Austin ISD Performing Arts Center\, 1500 Barbara Jordan Blvd\, Austin\, TX\, 78723\, United States
ATTACH;FMTTYPE=image/jpeg:http://austincivicorchestra.org/wp-content/uploads/2021/11/ACO-Season2122-Holiday-Web-1920x1080-144dpi-scaled.jpg
END:VEVENT
END:VCALENDAR