BEGIN:VCALENDAR
VERSION:2.0
PRODID:-//Austin Civic Orchestra - ECPv6.5.1.4//NONSGML v1.0//EN
CALSCALE:GREGORIAN
METHOD:PUBLISH
X-WR-CALNAME:Austin Civic Orchestra
X-ORIGINAL-URL:http://austincivicorchestra.org
X-WR-CALDESC:Events for Austin Civic Orchestra
REFRESH-INTERVAL;VALUE=DURATION:PT1H
X-Robots-Tag:noindex
X-PUBLISHED-TTL:PT1H
BEGIN:VTIMEZONE
TZID:America/Chicago
BEGIN:DAYLIGHT
TZOFFSETFROM:-0600
TZOFFSETTO:-0500
TZNAME:CDT
DTSTART:20220313T080000
END:DAYLIGHT
BEGIN:STANDARD
TZOFFSETFROM:-0500
TZOFFSETTO:-0600
TZNAME:CST
DTSTART:20221106T070000
END:STANDARD
END:VTIMEZONE
BEGIN:VEVENT
DTSTART;TZID=America/Chicago:20220402T193000
DTEND;TZID=America/Chicago:20220402T203000
DTSTAMP:20260420T164548
CREATED:20210817T232125Z
LAST-MODIFIED:20220325T190645Z
UID:2052-1648927800-1648931400@austincivicorchestra.org
SUMMARY:Texas Rising Stars
DESCRIPTION:The Austin Civic Orchestra partners again with The University of Texas at Austin for the 8th Texas Rising Stars concert at Bates Recital Hall. The winners of the Butler School of Music’s String Concerto Competition perform concerti accompanied by the orchestra. \nThis collaborative concert between the Butler School of Music and Austin Civic Orchestra was conceived by UT professor Brian Lewis and is funded in part by the David and Mary Winton Green Chair in String Performance and Pedagogy. \nThe orchestra will open the concert with the Overture to “West Side Story”.   \nFull program: \n\nBernstein/Peress: Overture to “West Side Story”\nBrahms: Violin Concerto in D major\, Op. 77\, Allegro non troppo\, featuring Dongsub Jeoung on violin\nChausson: Poème for Violin and Orchestra\, Op.25\, featuring Nick Hammel on violin\nTchaikovsky: Violin Concerto in D major\, Finale: Allegro vivacissimo\, featuring Josh Liu on violin\n\nGet directions and parking information. \nGet Free TICKETS \nThis concert is part of the Austin Civic Orchestra’s 2021-22 season\, Reunited. Throughout the season\, you will hear beloved classics alongside new and eclectic works. \nPlease note: Face masks are recommended\, and we encourage you to refer to our website for the latest updates on our health and safety guidelines.
URL:http://austincivicorchestra.org/event/texas-rising-stars-2022/
LOCATION:Bates Recital Hall\, 2406 Robert Dedman Drive\, Austin\, TX\, 78712\, United States
ATTACH;FMTTYPE=image/jpeg:http://austincivicorchestra.org/wp-content/uploads/2020/02/ACO-2020-RisingStars-Web-draft1.jpg
END:VEVENT
END:VCALENDAR