BEGIN:VCALENDAR
VERSION:2.0
PRODID:-//Austin Civic Orchestra - ECPv6.5.1.4//NONSGML v1.0//EN
CALSCALE:GREGORIAN
METHOD:PUBLISH
X-WR-CALNAME:Austin Civic Orchestra
X-ORIGINAL-URL:http://austincivicorchestra.org
X-WR-CALDESC:Events for Austin Civic Orchestra
REFRESH-INTERVAL;VALUE=DURATION:PT1H
X-Robots-Tag:noindex
X-PUBLISHED-TTL:PT1H
BEGIN:VTIMEZONE
TZID:America/Chicago
BEGIN:DAYLIGHT
TZOFFSETFROM:-0600
TZOFFSETTO:-0500
TZNAME:CDT
DTSTART:20220313T080000
END:DAYLIGHT
BEGIN:STANDARD
TZOFFSETFROM:-0500
TZOFFSETTO:-0600
TZNAME:CST
DTSTART:20221106T070000
END:STANDARD
END:VTIMEZONE
BEGIN:VEVENT
DTSTART;TZID=America/Chicago:20220611T201500
DTEND;TZID=America/Chicago:20220611T213000
DTSTAMP:20260420T131411
CREATED:20220903T132853Z
LAST-MODIFIED:20220903T132853Z
UID:2545-1654978500-1654983000@austincivicorchestra.org
SUMMARY:From Stage to Screen — Performance 2 (CANCELED)
DESCRIPTION:Note: Due to the high temperatures expected in the Austin area on June 10 and June 11\, both performances of From Stage to Screen have been canceled for the safety of our musicians\, their equipment\, and the audience. \nJoin the Austin Civic Orchestra for this free concert at the Zilker Hillside Theater. This year we feature the music that made a successful transition from the stage as a musical to a full screen movie.  Bring your blanket or low chair with plenty of water to sit on the hillside in the setting sun to enjoy the concert. \nAs is the tradition\, we end with Sousa’s The Stars and Stripes Forever conducted by the raffle winner.  This could be you! \nThe program includes selections from : \n\nCats – music by Andrew Lloyd Webber and arranged by Bob Lowden\nThe King and I – music by Richard Rodgers and arranged by Bob Lowden\n“A Chorus Line” – music by Marvin Hamlisch and arranged by Bob Lowden\nChicago – music by John Kander and arranged by Ted Ricketts\n\nIntermission \n\nFor the oppressed: Ukrainian National Anthem  – music by Mykhailo Verbytsky and arranged by Keith Terrett\nFiddler on the Roof  –  music by Jerry Bock and arranged by Felton Rapley\nThe Sound of Music Selection for Orchestra – music by Richard Rodgers and arranged by Robert Russell Bennett\nLes Misérables – music by Claude-Michel Schönberg and arranged by Bob Lowden\nThe Stars & Stripes Forever March by Sousa\n\nGet your free TICKETS \nSee this map with parking information. \nThis concert is part of the Austin Civic Orchestra’s 2021-22 season\, Reunited. Throughout the season\, you will hear beloved classics alongside new and eclectic works.
URL:http://austincivicorchestra.org/event/from-stage-to-screen-zilker-2-2/
LOCATION:Sheffield Hillside Theatre at Zilker Park\, 2206 William Barton Drive\, Austin\, TX\, 78746\, United States
ATTACH;FMTTYPE=image/jpeg:http://austincivicorchestra.org/wp-content/uploads/2021/08/Event-Background-Graphic.jpg
END:VEVENT
END:VCALENDAR