BEGIN:VCALENDAR
VERSION:2.0
PRODID:-//Austin Civic Orchestra - ECPv6.5.1.4//NONSGML v1.0//EN
CALSCALE:GREGORIAN
METHOD:PUBLISH
X-ORIGINAL-URL:http://austincivicorchestra.org
X-WR-CALDESC:Events for Austin Civic Orchestra
REFRESH-INTERVAL;VALUE=DURATION:PT1H
X-Robots-Tag:noindex
X-PUBLISHED-TTL:PT1H
BEGIN:VTIMEZONE
TZID:America/Chicago
BEGIN:DAYLIGHT
TZOFFSETFROM:-0600
TZOFFSETTO:-0500
TZNAME:CDT
DTSTART:20210314T080000
END:DAYLIGHT
BEGIN:STANDARD
TZOFFSETFROM:-0500
TZOFFSETTO:-0600
TZNAME:CST
DTSTART:20211107T070000
END:STANDARD
END:VTIMEZONE
BEGIN:VEVENT
DTSTART;TZID=America/Chicago:20210703T193000
DTEND;TZID=America/Chicago:20210703T201500
DTSTAMP:20260425T053219
CREATED:20210608T002242Z
LAST-MODIFIED:20210805T212540Z
UID:1938-1625340600-1625343300@austincivicorchestra.org
SUMMARY:The Beat Goes On: July Concert
DESCRIPTION:Join the Austin Civic Orchestra in its June installment of “The Beat Goes On\,” a series of virtual events featuring ACO musicians organized into chamber ensembles – strings\, wind and brass ensembles.  The concert will be streaming on our YouTube and Facebook pages. \n\n Fantasia on a Theme by Thomas Tallis by Ralph Vaughan William/arr. Hoffman (String Ensemble)\nAmerica from West Side Story by Leonard Bernstein/arr. Bulla (String Ensemble)\nI Can’t Help Falling in Love with You for Bassoon Quartet by Elvis Presley\, arr. Samuel Peters (Bassooner the Better)\nViolin Sonata No. 1 in G major\, Op. 78\, Mvt 1 (Vivace ma non troppo) by Johannes Brahms\nSheebeg and Sheemore by Turlough O’Carolan arr. Michael Hopkins. (Allandale String Quartet)\nCeylon Tango Malaya; Traditional (Allandale  String Quartet)\nSalute to the Armed Forces – Army/Marines/Navy/Air Force/Coast Guard Compiled by Jari Villanueva (ACO Brass Ensemble)\nThe Stars and Stripes Forever by John Philip Sousa Arranged by Jari Villanueva (ACO Brass Ensemble)\n\nNone of this would be possible without your continued support and donations. If you would like to make a donation\, please click here. \nConcert program is here. \n  \n\nThis project is supported in part by the Cultural Arts Division of the City of Austin Economic Development Department.
URL:http://austincivicorchestra.org/event/the-beat-goes-on-july-concert/
LOCATION:TX
ATTACH;FMTTYPE=image/png:http://austincivicorchestra.org/wp-content/uploads/2020/09/ACO-Beat-Goes-On-Event-Banner-5.png
END:VEVENT
END:VCALENDAR