BEGIN:VCALENDAR
VERSION:2.0
PRODID:-//Austin Civic Orchestra - ECPv6.5.1.4//NONSGML v1.0//EN
CALSCALE:GREGORIAN
METHOD:PUBLISH
X-WR-CALNAME:Austin Civic Orchestra
X-ORIGINAL-URL:http://austincivicorchestra.org
X-WR-CALDESC:Events for Austin Civic Orchestra
REFRESH-INTERVAL;VALUE=DURATION:PT1H
X-Robots-Tag:noindex
X-PUBLISHED-TTL:PT1H
BEGIN:VTIMEZONE
TZID:America/Chicago
BEGIN:DAYLIGHT
TZOFFSETFROM:-0600
TZOFFSETTO:-0500
TZNAME:CDT
DTSTART:20210314T080000
END:DAYLIGHT
BEGIN:STANDARD
TZOFFSETFROM:-0500
TZOFFSETTO:-0600
TZNAME:CST
DTSTART:20211107T070000
END:STANDARD
END:VTIMEZONE
BEGIN:VEVENT
DTSTART;TZID=America/Chicago:20211030T193000
DTEND;TZID=America/Chicago:20211030T203000
DTSTAMP:20260421T012505
CREATED:20210817T210915Z
LAST-MODIFIED:20211027T131327Z
UID:2040-1635622200-1635625800@austincivicorchestra.org
SUMMARY:ACO Spooktacular!
DESCRIPTION:Join the Austin Civic Orchestra for this concert featuring creepy Halloween-themed music — you are even invited to wear your costume! The orchestra will perform Gustav Holst’s Mars from The Planets and The Witches’ Sabbath from Symphonie Fantastique  and other spooky selections. \nFull program: \n\nMussorgsky: Night on Bald Mountain\nGrieg: Hall of the Mountain King from Peer Gynt Suite No. 1\nBerlioz: The Witches’ Sabbath from Symphonie Fantastique\nWilliams: The Imperial March (Darth Vader’s Theme) from The Empire Strikes Back\nHolst: Mars from The Planets\n\nPURCHASE TICKETS \nThis concert is part of the Austin Civic Orchestra’s 2021-22 season\, Reunited. Throughout the season\, you will hear beloved classics alongside new and eclectic works. \n\n\nThis project is supported in part by the Cultural Arts Division of the City of Austin Economic Development Department.
URL:http://austincivicorchestra.org/event/halloween-spooktacular/
LOCATION:Cedar Ridge High School Auditorium\, 2801 Gattis School Rd\, Round Rock\, TX\, 78665
ATTACH;FMTTYPE=image/jpeg:http://austincivicorchestra.org/wp-content/uploads/2021/08/ACO-Spooktacular-Web-1920x1080-72dpi.jpg
END:VEVENT
END:VCALENDAR